BEGIN:VCALENDAR
VERSION:2.0
PRODID:spatie/icalendar-generator
DESCRIPTION:Veranstaltungen von Bährle-Flohmarkt
X-WR-CALDESC:Veranstaltungen von Bährle-Flohmarkt
REFRESH-INTERVAL;VALUE=DURATION:PT1440M
X-PUBLISHED-TTL:PT1440M
BEGIN:VTIMEZONE
TZID:Europe/Berlin
BEGIN:STANDARD
DTSTART:20251026T030000Z
TZOFFSETFROM:+0200
TZOFFSETTO:+0100
END:STANDARD
BEGIN:DAYLIGHT
DTSTART:20260329T020000Z
TZOFFSETFROM:+0100
TZOFFSETTO:+0200
END:DAYLIGHT
BEGIN:STANDARD
DTSTART:20261025T030000Z
TZOFFSETFROM:+0200
TZOFFSETTO:+0100
END:STANDARD
END:VTIMEZONE
BEGIN:VTIMEZONE
TZID:UTC
BEGIN:STANDARD
DTSTART:20250724T165114Z
TZOFFSETFROM:+0000
TZOFFSETTO:+0000
END:STANDARD
END:VTIMEZONE
BEGIN:VEVENT
UID:156-142
DTSTAMP:20260420T165114Z
SUMMARY:Güterbahnhof Flohmarkt Ersttermin
LOCATION:Wiehre Flohmarkt Urachstraße 40  Freiburg im Breisgau  79102
ORGANIZER;CN=Angelika:MAILTO:angelikabaehrle@web.de
DTSTART;TZID=Europe/Berlin:20260606T090000
DTEND;TZID=Europe/Berlin:20260606T150000
X-ALT-DESC;FMTTYPE=TEXT/HTML:
CATEGORIES:General
URL;VALUE=URI:https://wiehre.uber.space/mc-events/gueterbahnhof-flohmarkt-e
 rsttermin-4/
METHOD:PUBLISH
END:VEVENT
END:VCALENDAR